BEGIN:VCALENDAR
VERSION:2.0
PRODID:-//ExpressionEngine Easy iCalendar plugin//NONSGML v2.0.0//EN
X-WR-TIMEZONE:America/Chicago
X-WR-CALNAME:Upcoming Auctions
BEGIN:VEVENT
UID:160265
DTSTAMP:20260421T183000
DTSTART:20260421T183000
DTEND:20260428T190000
SUMMARY:Barnum Auction #275
LOCATION:3767 Front St.\, Barnum\, MN 55707\, US
DESCRIPTION:Barnum Auction #275 Auction Closes: Tuesday April 28th start
 ing at 7pm Pick up Times: Wednesday April 29th 10:00-5:00pm 
                          Thursday April 30th 10
 :00-4:00pm
URL:https://www.moosebid.com/auctions/detail/bw160265
SEQUENCE:1
END:VEVENT
END:VCALENDAR